BEGIN:VCALENDAR
VERSION:2.0
PRODID:-//Kinmount &amp; District Health Centre - ECPv6.15.20//NONSGML v1.0//EN
CALSCALE:GREGORIAN
METHOD:PUBLISH
X-WR-CALNAME:Kinmount &amp; District Health Centre
X-ORIGINAL-URL:https://www.kdhc.ca
X-WR-CALDESC:Events for Kinmount &amp; District Health Centre
REFRESH-INTERVAL;VALUE=DURATION:PT1H
X-Robots-Tag:noindex
X-PUBLISHED-TTL:PT1H
BEGIN:VTIMEZONE
TZID:America/Toronto
BEGIN:DAYLIGHT
TZOFFSETFROM:-0500
TZOFFSETTO:-0400
TZNAME:EDT
DTSTART:20190310T070000
END:DAYLIGHT
BEGIN:STANDARD
TZOFFSETFROM:-0400
TZOFFSETTO:-0500
TZNAME:EST
DTSTART:20191103T060000
END:STANDARD
BEGIN:DAYLIGHT
TZOFFSETFROM:-0500
TZOFFSETTO:-0400
TZNAME:EDT
DTSTART:20200308T070000
END:DAYLIGHT
BEGIN:STANDARD
TZOFFSETFROM:-0400
TZOFFSETTO:-0500
TZNAME:EST
DTSTART:20201101T060000
END:STANDARD
BEGIN:DAYLIGHT
TZOFFSETFROM:-0500
TZOFFSETTO:-0400
TZNAME:EDT
DTSTART:20210314T070000
END:DAYLIGHT
BEGIN:STANDARD
TZOFFSETFROM:-0400
TZOFFSETTO:-0500
TZNAME:EST
DTSTART:20211107T060000
END:STANDARD
BEGIN:DAYLIGHT
TZOFFSETFROM:-0500
TZOFFSETTO:-0400
TZNAME:EDT
DTSTART:20220313T070000
END:DAYLIGHT
BEGIN:STANDARD
TZOFFSETFROM:-0400
TZOFFSETTO:-0500
TZNAME:EST
DTSTART:20221106T060000
END:STANDARD
END:VTIMEZONE
BEGIN:VEVENT
DTSTART;TZID=America/Toronto:20210115T090000
DTEND;TZID=America/Toronto:20210115T100000
DTSTAMP:20260424T000228
CREATED:20201110T154152Z
LAST-MODIFIED:20201210T180938Z
UID:79-1610701200-1610704800@www.kdhc.ca
SUMMARY:KDHSF Meeting
DESCRIPTION:Regular meeting of KDHSF. For more information\, please email kdhsf@kdhc.ca
URL:https://www.kdhc.ca/event/kdhsf-meeting/
END:VEVENT
BEGIN:VEVENT
DTSTART;TZID=America/Toronto:20201205T130000
DTEND;TZID=America/Toronto:20201205T150000
DTSTAMP:20260424T000228
CREATED:20201110T154532Z
LAST-MODIFIED:20201128T184706Z
UID:82-1607173200-1607180400@www.kdhc.ca
SUMMARY:Christmas Craft & Candy
DESCRIPTION:A fun\, outdoor event from The Lions Club and Santa for kids 12 & under
URL:https://www.kdhc.ca/event/test-event-3/
LOCATION:Austin Sawmill Park\, 5 Station Rd\, Kinmount\, Ontario\, K0M 2A0\, Canada
END:VEVENT
BEGIN:VEVENT
DTSTART;VALUE=DATE:20201201
DTEND;VALUE=DATE:20210101
DTSTAMP:20260424T000228
CREATED:20201110T151454Z
LAST-MODIFIED:20201128T210309Z
UID:76-1606780800-1609459199@www.kdhc.ca
SUMMARY:Christmas Appeal
DESCRIPTION:Running for the month of December\, our annual Christmas Appeal generates the funds for all capital expenses of the Health Centre and for doctor recruitment. Information will be mailed out.
URL:https://www.kdhc.ca/event/christmas-appeal/
END:VEVENT
END:VCALENDAR