BEGIN:VCALENDAR
VERSION:2.0
PRODID:-//Kinmount &amp; District Health Centre - ECPv6.15.20//NONSGML v1.0//EN
CALSCALE:GREGORIAN
METHOD:PUBLISH
X-WR-CALNAME:Kinmount &amp; District Health Centre
X-ORIGINAL-URL:https://www.kdhc.ca
X-WR-CALDESC:Events for Kinmount &amp; District Health Centre
REFRESH-INTERVAL;VALUE=DURATION:PT1H
X-Robots-Tag:noindex
X-PUBLISHED-TTL:PT1H
BEGIN:VTIMEZONE
TZID:America/Toronto
BEGIN:DAYLIGHT
TZOFFSETFROM:-0500
TZOFFSETTO:-0400
TZNAME:EDT
DTSTART:20190310T070000
END:DAYLIGHT
BEGIN:STANDARD
TZOFFSETFROM:-0400
TZOFFSETTO:-0500
TZNAME:EST
DTSTART:20191103T060000
END:STANDARD
BEGIN:DAYLIGHT
TZOFFSETFROM:-0500
TZOFFSETTO:-0400
TZNAME:EDT
DTSTART:20200308T070000
END:DAYLIGHT
BEGIN:STANDARD
TZOFFSETFROM:-0400
TZOFFSETTO:-0500
TZNAME:EST
DTSTART:20201101T060000
END:STANDARD
BEGIN:DAYLIGHT
TZOFFSETFROM:-0500
TZOFFSETTO:-0400
TZNAME:EDT
DTSTART:20210314T070000
END:DAYLIGHT
BEGIN:STANDARD
TZOFFSETFROM:-0400
TZOFFSETTO:-0500
TZNAME:EST
DTSTART:20211107T060000
END:STANDARD
BEGIN:DAYLIGHT
TZOFFSETFROM:-0500
TZOFFSETTO:-0400
TZNAME:EDT
DTSTART:20220313T070000
END:DAYLIGHT
BEGIN:STANDARD
TZOFFSETFROM:-0400
TZOFFSETTO:-0500
TZNAME:EST
DTSTART:20221106T060000
END:STANDARD
BEGIN:DAYLIGHT
TZOFFSETFROM:-0500
TZOFFSETTO:-0400
TZNAME:EDT
DTSTART:20230312T070000
END:DAYLIGHT
BEGIN:STANDARD
TZOFFSETFROM:-0400
TZOFFSETTO:-0500
TZNAME:EST
DTSTART:20231105T060000
END:STANDARD
BEGIN:DAYLIGHT
TZOFFSETFROM:-0500
TZOFFSETTO:-0400
TZNAME:EDT
DTSTART:20240310T070000
END:DAYLIGHT
BEGIN:STANDARD
TZOFFSETFROM:-0400
TZOFFSETTO:-0500
TZNAME:EST
DTSTART:20241103T060000
END:STANDARD
BEGIN:DAYLIGHT
TZOFFSETFROM:-0500
TZOFFSETTO:-0400
TZNAME:EDT
DTSTART:20250309T070000
END:DAYLIGHT
BEGIN:STANDARD
TZOFFSETFROM:-0400
TZOFFSETTO:-0500
TZNAME:EST
DTSTART:20251102T060000
END:STANDARD
BEGIN:DAYLIGHT
TZOFFSETFROM:-0500
TZOFFSETTO:-0400
TZNAME:EDT
DTSTART:20260308T070000
END:DAYLIGHT
BEGIN:STANDARD
TZOFFSETFROM:-0400
TZOFFSETTO:-0500
TZNAME:EST
DTSTART:20261101T060000
END:STANDARD
END:VTIMEZONE
BEGIN:VEVENT
DTSTART;TZID=America/Toronto:20251004T190000
DTEND;TZID=America/Toronto:20251004T210000
DTSTAMP:20260423T110914
CREATED:20250628T171153Z
LAST-MODIFIED:20250628T171200Z
UID:971-1759604400-1759611600@www.kdhc.ca
SUMMARY:Keith Kirkpatrick: Memphis Meets Nashville - An evening of songs and stories
DESCRIPTION:Entrance is “Pay What You Wish”\, but call Yvette at 705-488-2822 to reserve your seats.
URL:https://www.kdhc.ca/event/keith-kirkpatrick-memphis-meets-nashville-an-evening-of-songs-and-stories/
LOCATION:Kinmount Community Center\, 2 Dickson St.\, Kinmount\, Ontario\, K0M 2A0\, Canada
END:VEVENT
BEGIN:VEVENT
DTSTART;TZID=America/Toronto:20250810T090000
DTEND;TZID=America/Toronto:20250810T130000
DTSTAMP:20260423T110914
CREATED:20250513T163008Z
LAST-MODIFIED:20250513T163008Z
UID:962-1754816400-1754830800@www.kdhc.ca
SUMMARY:27th Annual Journey for Health\, August 10\, 2025
DESCRIPTION:
URL:https://www.kdhc.ca/event/27th-annual-journey-for-health-august-10-2025/
LOCATION:Austin Sawmill Heritage Park\, Kinmount\, Ontario\, Canada
END:VEVENT
BEGIN:VEVENT
DTSTART;TZID=America/Toronto:20250514T113000
DTEND;TZID=America/Toronto:20250514T130000
DTSTAMP:20260423T110914
CREATED:20250513T164813Z
LAST-MODIFIED:20250513T164813Z
UID:960-1747222200-1747227600@www.kdhc.ca
SUMMARY:Lunch and Learn May 14\, 2025
DESCRIPTION:Community Outreach Services
URL:https://www.kdhc.ca/event/lunch-and-learn-may-14-2025/
LOCATION:Kinmount Legion\, 5074 County Rd 503\, Kinmount\, ON\, K0M 2A0\, Canada
END:VEVENT
BEGIN:VEVENT
DTSTART;TZID=America/Toronto:20250312T113000
DTEND;TZID=America/Toronto:20250312T130000
DTSTAMP:20260423T110914
CREATED:20250205T231944Z
LAST-MODIFIED:20250205T232301Z
UID:949-1741779000-1741784400@www.kdhc.ca
SUMMARY:Lunch and Learn March 12
DESCRIPTION:Guest speaker: Autumn Campbell\, Community Paramedic Program
URL:https://www.kdhc.ca/event/lunch-and-learn-march-12/
LOCATION:Kinmount Legion\, 5074 County Rd 503\, Kinmount\, ON\, K0M 2A0\, Canada
END:VEVENT
BEGIN:VEVENT
DTSTART;TZID=America/Toronto:20250212T113000
DTEND;TZID=America/Toronto:20250212T130000
DTSTAMP:20260423T110914
CREATED:20241212T121751Z
LAST-MODIFIED:20241212T121751Z
UID:940-1739359800-1739365200@www.kdhc.ca
SUMMARY:Lunch and Learn: February
DESCRIPTION:Where: Kinmount Legion \nNext date: February 12th\, 2025 \nTime: 11:30 – 1 \nGuest Speakers: Wendy and MacKenzie West\, Advance Foot Care \nA buffet lunch\, coffee and tea are included\, following the presentation. \nAll are welcome! \nPlease arrive a little early so you can grab a cup of tea or coffee before the guest speakers start.
URL:https://www.kdhc.ca/event/lunch-and-learn-february/
LOCATION:Ontario
END:VEVENT
BEGIN:VEVENT
DTSTART;TZID=America/Toronto:20250108T113000
DTEND;TZID=America/Toronto:20250108T130000
DTSTAMP:20260423T110914
CREATED:20241212T120656Z
LAST-MODIFIED:20241212T121857Z
UID:936-1736335800-1736341200@www.kdhc.ca
SUMMARY:Lunch and Learn: January
DESCRIPTION:Where: Kinmount Legion \nNext date: January 8th\, 2025 \nTime: 11:30 – 1 \nGuest Speakers: Vivian Wong-Svoboda: Tips from a Physiotherapist and Mya Musselman of The Smile Studio\, what you need to know about dental hygiene and Canada’s new dental plan \nA buffet lunch\, coffee and tea are included\, following the presentations. \nAll are welcome! Please arrive a little early so you can grab a cup of tea or coffee before the guest speakers start.
URL:https://www.kdhc.ca/event/lunch-and-learn/
LOCATION:Kinmount Legion\, 5074 County Rd 503\, Kinmount\, ON\, K0M 2A0\, Canada
END:VEVENT
BEGIN:VEVENT
DTSTART;TZID=America/Toronto:20240811T090000
DTEND;TZID=America/Toronto:20240811T130000
DTSTAMP:20260423T110914
CREATED:20240517T205715Z
LAST-MODIFIED:20240517T205715Z
UID:787-1723366800-1723381200@www.kdhc.ca
SUMMARY:Journey for Health
DESCRIPTION:
URL:https://www.kdhc.ca/event/journey-for-health/
LOCATION:Austin Sawmill Heritage Park\, Kinmount\, Ontario\, Canada
END:VEVENT
BEGIN:VEVENT
DTSTART;TZID=America/Toronto:20240618T090000
DTEND;TZID=America/Toronto:20240618T110000
DTSTAMP:20260423T110914
CREATED:20240517T205839Z
LAST-MODIFIED:20240517T205839Z
UID:791-1718701200-1718708400@www.kdhc.ca
SUMMARY:KDHSF AGM via Zoom
DESCRIPTION:
URL:https://www.kdhc.ca/event/kdhsf-agm-via-zoom/
LOCATION:Ontario
END:VEVENT
BEGIN:VEVENT
DTSTART;TZID=America/Toronto:20240204T130000
DTEND;TZID=America/Toronto:20240204T160000
DTSTAMP:20260423T110914
CREATED:20240130T183004Z
LAST-MODIFIED:20240130T183004Z
UID:722-1707051600-1707062400@www.kdhc.ca
SUMMARY:KDHSF Public Skating Party
DESCRIPTION:
URL:https://www.kdhc.ca/event/kdhsf-public-skating-party/
LOCATION:Burnt River Communiy Centre
END:VEVENT
BEGIN:VEVENT
DTSTART;TZID=America/Toronto:20230916T140000
DTEND;TZID=America/Toronto:20230916T160000
DTSTAMP:20260423T110914
CREATED:20230826T175531Z
LAST-MODIFIED:20230826T175531Z
UID:625-1694872800-1694880000@www.kdhc.ca
SUMMARY:Dr. Mihu's Retirement Celebration
DESCRIPTION:The Kinmount District Health Services Foundation is hosting a community celebration to honour Dr. Mihu on the occasion of her retirement. \n\nWhen: September 16\, 2023\, 2pm – 4 pm\nWhere: Kinmount Community Hall\n\nBest Wishes Only.\n\nAll are invited to this community celebration.\nWe hope Dr. Mihu’s patients and friends will participate in a memory garden pot by bringing along to the reception a pebble no larger than a quarter. We will glue all the pebbles to a garden pot for Dr. Mihu as amemento of all those whose lives she has touched during her years of service at the Kinmount and District Health Centre.
URL:https://www.kdhc.ca/event/dr-mihus-retirement-celebration/
LOCATION:Ontario
END:VEVENT
BEGIN:VEVENT
DTSTART;TZID=America/Toronto:20230813T090000
DTEND;TZID=America/Toronto:20230813T130000
DTSTAMP:20260423T110914
CREATED:20230418T183909Z
LAST-MODIFIED:20230418T184800Z
UID:559-1691917200-1691931600@www.kdhc.ca
SUMMARY:Journey for Health - Sunday\, August 13\, 2023 9 am - 1 pm Austin Sawmill Heritage Park
DESCRIPTION:Join in the fun and support the Kinmount & District Health Centre! \nAsk for sponsors ahead of time\,  or make a donation on the day of Journey when you register with our volunteers in the picnic shelter at Austin Heritage Sawmill Park. \nBring your family\, friends and neighbours and enjoy walking\, jogging\, or biking together on the beautiful Rail Trail from the park to the bridge south of Kinmount. \nThe entire Journey is approximately 6.8 km\, round trip\, but\, of course\, you may turn back at any time. Walking at a leisurely pace usually means the Journey will take from \n1 1/2 to 2 hours. Many participants like to enjoy the view from the bridge for a while before heading back to the park. \nMore information to come!
URL:https://www.kdhc.ca/event/journey-for-health-sunday-august-13-2023-9-am-1-pm-austin-sawmill-heritage-park/
LOCATION:Ontario
END:VEVENT
BEGIN:VEVENT
DTSTART;TZID=America/Toronto:20230516T090000
DTEND;TZID=America/Toronto:20230516T113000
DTSTAMP:20260423T110914
CREATED:20230418T185043Z
LAST-MODIFIED:20230418T185043Z
UID:564-1684227600-1684236600@www.kdhc.ca
SUMMARY:KDHSF AGM
DESCRIPTION:Contact the KDHSF for details
URL:https://www.kdhc.ca/event/kdhsf-agm/
LOCATION:Ontario
END:VEVENT
BEGIN:VEVENT
DTSTART;VALUE=DATE:20221108
DTEND;VALUE=DATE:20221109
DTSTAMP:20260423T110914
CREATED:20221108T165015Z
LAST-MODIFIED:20221108T165625Z
UID:518-1667865600-1667951999@www.kdhc.ca
SUMMARY:Check out the KDHC Facebook page for updates
DESCRIPTION:
URL:https://www.kdhc.ca/event/check-out-the-kdhc-facebook-page-for-updates/
LOCATION:Ontario
END:VEVENT
BEGIN:VEVENT
DTSTART;VALUE=DATE:20210808
DTEND;VALUE=DATE:20210809
DTSTAMP:20260423T110914
CREATED:20210623T185811Z
LAST-MODIFIED:20210623T214534Z
UID:379-1628380800-1628467199@www.kdhc.ca
SUMMARY:Journey for Health 2021
DESCRIPTION:2021 Journey For Health Information Sheet \n2021 Journey For Health Sponsor Page \nThe 2021 Journey for Health fundraiser is being held on August 8th – or on any day that works better for you. Once again we ask the greater Kinmount community to get some sponsors\, walk awhile\, and help us raise funds to continue the recruitment process of bringing an additional doctor to our Health Centre. More information is available at businesses around town and at the Health Centre.
URL:https://www.kdhc.ca/event/journey-for-health-2021/
LOCATION:Ontario
END:VEVENT
BEGIN:VEVENT
DTSTART;TZID=America/Toronto:20210115T090000
DTEND;TZID=America/Toronto:20210115T100000
DTSTAMP:20260423T110914
CREATED:20201110T154152Z
LAST-MODIFIED:20201210T180938Z
UID:79-1610701200-1610704800@www.kdhc.ca
SUMMARY:KDHSF Meeting
DESCRIPTION:Regular meeting of KDHSF. For more information\, please email kdhsf@kdhc.ca
URL:https://www.kdhc.ca/event/kdhsf-meeting/
LOCATION:Ontario
END:VEVENT
BEGIN:VEVENT
DTSTART;TZID=America/Toronto:20201205T130000
DTEND;TZID=America/Toronto:20201205T150000
DTSTAMP:20260423T110914
CREATED:20201110T154532Z
LAST-MODIFIED:20201128T184706Z
UID:82-1607173200-1607180400@www.kdhc.ca
SUMMARY:Christmas Craft & Candy
DESCRIPTION:A fun\, outdoor event from The Lions Club and Santa for kids 12 & under
URL:https://www.kdhc.ca/event/test-event-3/
LOCATION:Austin Sawmill Park\, 5 Station Rd\, Kinmount\, Ontario\, K0M 2A0\, Canada
END:VEVENT
BEGIN:VEVENT
DTSTART;VALUE=DATE:20201201
DTEND;VALUE=DATE:20210101
DTSTAMP:20260423T110914
CREATED:20201110T151454Z
LAST-MODIFIED:20201128T210309Z
UID:76-1606780800-1609459199@www.kdhc.ca
SUMMARY:Christmas Appeal
DESCRIPTION:Running for the month of December\, our annual Christmas Appeal generates the funds for all capital expenses of the Health Centre and for doctor recruitment. Information will be mailed out.
URL:https://www.kdhc.ca/event/christmas-appeal/
LOCATION:Ontario
END:VEVENT
END:VCALENDAR